BEGIN:VCALENDAR
VERSION:2.0
PRODID:-//Tommy Williams for Slidell Chief of Police - ECPv6.15.20//NONSGML v1.0//EN
CALSCALE:GREGORIAN
METHOD:PUBLISH
X-WR-CALNAME:Tommy Williams for Slidell Chief of Police
X-ORIGINAL-URL:https://tommy4spdchief.com
X-WR-CALDESC:Events for Tommy Williams for Slidell Chief of Police
REFRESH-INTERVAL;VALUE=DURATION:PT1H
X-Robots-Tag:noindex
X-PUBLISHED-TTL:PT1H
BEGIN:VTIMEZONE
TZID:UTC
BEGIN:STANDARD
TZOFFSETFROM:+0000
TZOFFSETTO:+0000
TZNAME:UTC
DTSTART:20250101T000000
END:STANDARD
END:VTIMEZONE
BEGIN:VEVENT
DTSTART;VALUE=DATE:20260211
DTEND;VALUE=DATE:20260214
DTSTAMP:20260419T085049
CREATED:20251009T203715Z
LAST-MODIFIED:20251203T170513Z
UID:329-1770768000-1771027199@tommy4spdchief.com
SUMMARY:Candidate Qualifying
DESCRIPTION:Qualifying runs February 11–13\, 2026. Tommy will file the official paperwork to run for Slidell Police Chief. Join us in support as we take this first step toward transparency\, accountability\, and safer neighborhoods.
URL:https://tommy4spdchief.com/event/candidate-qualifying/
CATEGORIES:Election
ATTACH;FMTTYPE=image/png:https://tommy4spdchief.com/wp-content/uploads/2025/10/Qualifying-February-11-13-2026.png
END:VEVENT
END:VCALENDAR